BEGIN:VCALENDAR
VERSION:2.0
PRODID:-//Black Rock Church - ECPv6.15.20//NONSGML v1.0//EN
CALSCALE:GREGORIAN
METHOD:PUBLISH
X-WR-CALNAME:Black Rock Church
X-ORIGINAL-URL:https://blackrock.org
X-WR-CALDESC:Events for Black Rock Church
REFRESH-INTERVAL;VALUE=DURATION:PT1H
X-Robots-Tag:noindex
X-PUBLISHED-TTL:PT1H
BEGIN:VTIMEZONE
TZID:America/New_York
BEGIN:DAYLIGHT
TZOFFSETFROM:-0500
TZOFFSETTO:-0400
TZNAME:EDT
DTSTART:20240310T070000
END:DAYLIGHT
BEGIN:STANDARD
TZOFFSETFROM:-0400
TZOFFSETTO:-0500
TZNAME:EST
DTSTART:20241103T060000
END:STANDARD
BEGIN:DAYLIGHT
TZOFFSETFROM:-0500
TZOFFSETTO:-0400
TZNAME:EDT
DTSTART:20250309T070000
END:DAYLIGHT
BEGIN:STANDARD
TZOFFSETFROM:-0400
TZOFFSETTO:-0500
TZNAME:EST
DTSTART:20251102T060000
END:STANDARD
BEGIN:DAYLIGHT
TZOFFSETFROM:-0500
TZOFFSETTO:-0400
TZNAME:EDT
DTSTART:20260308T070000
END:DAYLIGHT
BEGIN:STANDARD
TZOFFSETFROM:-0400
TZOFFSETTO:-0500
TZNAME:EST
DTSTART:20261101T060000
END:STANDARD
BEGIN:DAYLIGHT
TZOFFSETFROM:-0500
TZOFFSETTO:-0400
TZNAME:EDT
DTSTART:20270314T070000
END:DAYLIGHT
BEGIN:STANDARD
TZOFFSETFROM:-0400
TZOFFSETTO:-0500
TZNAME:EST
DTSTART:20271107T060000
END:STANDARD
END:VTIMEZONE
BEGIN:VEVENT
DTSTART;VALUE=DATE:20260315
DTEND;VALUE=DATE:20260316
DTSTAMP:20260419T090358
CREATED:20260211T193129Z
LAST-MODIFIED:20260211T193130Z
UID:30001411-1773532800-1773619199@blackrock.org
SUMMARY:Missions Week: Sunday Worship Service and Message
DESCRIPTION:Peter Fretheim and his wife will speak at 9:00 AM\, 10:30 AM\, and 12:00 PM services. Global Partner Abu will speak at the 8:30 AM service. \nPeter Fretheim and his wife have worked in Nigeria for over two decades. They founded City Ministries\, now an umbrella organization to many ministries\, to preach the Gospel and bring healing to the hurting.
URL:https://blackrock.org/event/missions-week-sunday-worship-service-and-message-2/
LOCATION:Black Rock Church\, 3685 Black Rock Tpke\, Fairfield\, CT\, 06825\, United States
CATEGORIES:Worship Service
ATTACH;FMTTYPE=image/jpeg:https://blackrock.org/wp-content/uploads/2026/02/Calendar-MissionsWeek-SundayWorship.jpg
ORGANIZER;CN="Black Rock Church":MAILTO:info@blackrock.org
END:VEVENT
BEGIN:VEVENT
DTSTART;TZID=America/New_York:20260314T080000
DTEND;TZID=America/New_York:20260314T110000
DTSTAMP:20260419T090358
CREATED:20260211T192917Z
LAST-MODIFIED:20260211T192918Z
UID:30001410-1773475200-1773486000@blackrock.org
SUMMARY:Missions Week: Men's Event + Breakfast
DESCRIPTION:Enjoy a catered breakfast with fellow Black Rock men at 8:00 AM and then a free program at 9:00 AM to hear from two of our Global Partners\, John and Aaron. John serves with Arabs for the Arabs (AFTA)\, helping equip and support church planters across the Middle East and North Africa\, while Aaron reaches business leaders in one of the world’s largest Muslim-majority cities as he strengthens the local church through leading worship. \nCost: $15 // Under 18: Free \nBoys in grades 5 and older are welcome.
URL:https://blackrock.org/event/missions-week-mens-event-breakfast/
LOCATION:Black Rock Church\, 3685 Black Rock Tpke\, Fairfield\, CT\, 06825\, United States
CATEGORIES:Church Event
ATTACH;FMTTYPE=image/jpeg:https://blackrock.org/wp-content/uploads/2026/02/Calendar-MissionsWeek-MensEvent.jpg
ORGANIZER;CN="Black Rock Church":MAILTO:info@blackrock.org
END:VEVENT
BEGIN:VEVENT
DTSTART;TZID=America/New_York:20260311T173000
DTEND;TZID=America/New_York:20260311T200000
DTSTAMP:20260419T090358
CREATED:20260211T192716Z
LAST-MODIFIED:20260211T192717Z
UID:30001409-1773250200-1773259200@blackrock.org
SUMMARY:Missions Week: All Church Dinner & Program
DESCRIPTION:Join us for a catered dinner at 5:30 PM and a free program at 6:45 PM. \nHear first-hand reports from our Global Partners: JP serving with Mission India and Leo Ackon\, with International Justice Mission in Ghana. \nCost: $15 // Under 18: Free \nSpecial programming for kids in grades 1-5 begins at 6:30 PM. Childcare will be available for birth through kindergarten. 
URL:https://blackrock.org/event/missions-week-all-church-dinner-program/
LOCATION:Black Rock Church\, 3685 Black Rock Tpke\, Fairfield\, CT\, 06825\, United States
CATEGORIES:Church Event
ATTACH;FMTTYPE=image/jpeg:https://blackrock.org/wp-content/uploads/2026/02/Calendar-MissionsWeek-AllChurchDinner.jpg
ORGANIZER;CN="Black Rock Church":MAILTO:info@blackrock.org
END:VEVENT
BEGIN:VEVENT
DTSTART;TZID=America/New_York:20260309T190000
DTEND;TZID=America/New_York:20260309T203000
DTSTAMP:20260419T090358
CREATED:20260211T192305Z
LAST-MODIFIED:20260211T192306Z
UID:30001408-1773082800-1773088200@blackrock.org
SUMMARY:Missions Week: Prayer & Worship Night
DESCRIPTION:Hear from our Global Partners serving in places where persecution is a harsh reality. The Global Partners you will hear from are: Sue Perkins (Nigeria)\, JP S. (India)\, and Lana Silk (Iran). \nKids’ programming is available for kids\, birth to grade 5. 
URL:https://blackrock.org/event/missions-week-prayer-worship-night/
LOCATION:Black Rock Church\, 3685 Black Rock Tpke\, Fairfield\, CT\, 06825\, United States
CATEGORIES:Church Event,Worship Service
ATTACH;FMTTYPE=image/jpeg:https://blackrock.org/wp-content/uploads/2026/02/Calendar-MissionsWeek-PrayerWorshipNight.jpg
ORGANIZER;CN="Black Rock Church":MAILTO:info@blackrock.org
END:VEVENT
BEGIN:VEVENT
DTSTART;TZID=America/New_York:20260309T174500
DTEND;TZID=America/New_York:20260309T190000
DTSTAMP:20260419T090358
CREATED:20260211T192037Z
LAST-MODIFIED:20260211T193225Z
UID:30001407-1773078300-1773082800@blackrock.org
SUMMARY:Missions Week: Pizza with Prayer Partners
DESCRIPTION:Join us for a pizza dinner and a time of prayer with our Global Partners.\nCost: $10 // Under 18: Free
URL:https://blackrock.org/event/missions-week-pizza-with-prayer-partners/
LOCATION:Black Rock Church\, 3685 Black Rock Tpke\, Fairfield\, CT\, 06825\, United States
CATEGORIES:Church Event
ATTACH;FMTTYPE=image/jpeg:https://blackrock.org/wp-content/uploads/2026/02/Calendar-MissionsWeek-PizzawPrayerPartners.jpg
ORGANIZER;CN="Black Rock Church":MAILTO:info@blackrock.org
END:VEVENT
BEGIN:VEVENT
DTSTART;VALUE=DATE:20260308
DTEND;VALUE=DATE:20260309
DTSTAMP:20260419T090358
CREATED:20260211T191603Z
LAST-MODIFIED:20260211T191604Z
UID:30001406-1772928000-1773014399@blackrock.org
SUMMARY:Missions Week: Sunday Worship Service and Message
DESCRIPTION:Afeef Halasah will speak at 9:00 AM\, 10:30 AM\, and 12:00 PM services. Global Partner Aaron will speak at the 8:30 AM service. \nAfeef Halasah is a Jordanian pastor and the executive director of the Arabs for the Arabs network (AFTA)\, a church-planting movement focused on starting indigenous house churches among believers from a Muslim background and advancing the fulfillment of the Great Commission across the Arab world and beyond.
URL:https://blackrock.org/event/missions-week-sunday-worship-service-and-message/
LOCATION:Black Rock Church\, 3685 Black Rock Tpke\, Fairfield\, CT\, 06825\, United States
CATEGORIES:Worship Service
ATTACH;FMTTYPE=image/jpeg:https://blackrock.org/wp-content/uploads/2026/02/Calendar-MissionsWeek-SundayWorship.jpg
ORGANIZER;CN="Black Rock Church":MAILTO:info@blackrock.org
END:VEVENT
BEGIN:VEVENT
DTSTART;TZID=America/New_York:20260307T083000
DTEND;TZID=America/New_York:20260307T120000
DTSTAMP:20260419T090358
CREATED:20260211T191248Z
LAST-MODIFIED:20260211T193426Z
UID:30001405-1772872200-1772884800@blackrock.org
SUMMARY:Missions Week: Women's Event + Breakfast
DESCRIPTION:Join us for a catered breakfast and free program to hear from two of our global partners\, Susan and Esra. Susan and her husband serve with Arabs for the Arabs (AFTA)\, supporting church planting across the Middle East and North Africa\, while Esra and her husband reach top business leaders through coaching in a large Muslim-majority city. \nCost: $15 // Under 18: Free \nGirls grade 5 and older are welcome. Childcare is available for birth – grade 4 (8:15 AM-12:00 PM) 
URL:https://blackrock.org/event/missions-week-womens-event-breakfast/
LOCATION:Black Rock Church\, 3685 Black Rock Tpke\, Fairfield\, CT\, 06825\, United States
CATEGORIES:Church Event
ATTACH;FMTTYPE=image/jpeg:https://blackrock.org/wp-content/uploads/2026/02/Calendar-MissionsWeek-WomensEvent.jpg
ORGANIZER;CN="Black Rock Church":MAILTO:info@blackrock.org
END:VEVENT
BEGIN:VEVENT
DTSTART;TZID=America/New_York:20260306T170000
DTEND;TZID=America/New_York:20260308T160000
DTSTAMP:20260419T090358
CREATED:20251211T180306Z
LAST-MODIFIED:20251211T180904Z
UID:30001372-1772816400-1772985600@blackrock.org
SUMMARY:Thrive (Middle School) Winter Retreat
DESCRIPTION:Thrive (Middle School) Winter Retreat is happening at Camp Spofford from March 6-8\, 2026. We hope that your middle schooler and their friends will join us!
URL:https://blackrock.org/event/thrive-middle-school-winter-retreat/
LOCATION:Camp Spofford\, 24 NH-9A\, Spofford\, NH\, 03462\, United States
CATEGORIES:Church Event
ATTACH;FMTTYPE=image/png:https://blackrock.org/wp-content/uploads/2025/12/Thrive-Winter-Retreat-Handout-1.png
ORGANIZER;CN="Black Rock Church":MAILTO:info@blackrock.org
END:VEVENT
BEGIN:VEVENT
DTSTART;TZID=America/New_York:20260220T190000
DTEND;TZID=America/New_York:20260222T120000
DTSTAMP:20260419T090358
CREATED:20251201T142006Z
LAST-MODIFIED:20251201T142006Z
UID:30001366-1771614000-1771761600@blackrock.org
SUMMARY:Marriage Retreat
DESCRIPTION:Whether your marriage is brand new\, rock solid\, or in need of a little renovation\, this retreat is your invitation to unlock the keys to a thriving marriage. You’ll leave refreshed\, reconnected\, and equipped to take your marriage to the next level—together.
URL:https://blackrock.org/event/marriage-retreat/
LOCATION:Mystic Marriot Hotel and Spa\, 625 CT-117\, Groton\, CT\, 06340\, United States
CATEGORIES:Church Event
ATTACH;FMTTYPE=image/png:https://blackrock.org/wp-content/uploads/2025/12/TV-MarriageRetreat2026-TITLE.png
ORGANIZER;CN="Black Rock Church":MAILTO:info@blackrock.org
END:VEVENT
BEGIN:VEVENT
DTSTART;TZID=America/New_York:20260220T153000
DTEND;TZID=America/New_York:20260222T153000
DTSTAMP:20260419T090358
CREATED:20251204T211720Z
LAST-MODIFIED:20251211T175840Z
UID:30001371-1771601400-1771774200@blackrock.org
SUMMARY:Fusion (High School) Winter Retreat
DESCRIPTION:Fusion (High School) Winter Retreat is happening at Camp Hume from February 20-22\, 2026. We hope that your high schooler and their friends will join us!
URL:https://blackrock.org/event/fusion-winter-retreat/
LOCATION:Camp Hume\, 73 Chestnut Hill Road\, Monterey\, MA\, 01245\, United States
CATEGORIES:Church Event
ATTACH;FMTTYPE=image/jpeg:https://blackrock.org/wp-content/uploads/2025/12/TV-FusionWinterRetreat2026v2.jpg
ORGANIZER;CN="Black Rock Church":MAILTO:info@blackrock.org
END:VEVENT
BEGIN:VEVENT
DTSTART;VALUE=DATE:20251224
DTEND;VALUE=DATE:20251225
DTSTAMP:20260419T090358
CREATED:20251125T164047Z
LAST-MODIFIED:20251201T184918Z
UID:30001360-1766534400-1766620799@blackrock.org
SUMMARY:Christmas Eve
DESCRIPTION:Rejoice in Immanuel\, God with us — Come to experience the story of Christmas!
URL:https://blackrock.org/event/christmas-eve/
LOCATION:Black Rock Church\, 3685 Black Rock Tpke\, Fairfield\, CT\, 06825\, United States
CATEGORIES:Worship Service
ATTACH;FMTTYPE=image/jpeg:https://blackrock.org/wp-content/uploads/2025/11/Sundays-in-December-24.jpg
ORGANIZER;CN="Black Rock Church":MAILTO:info@blackrock.org
END:VEVENT
BEGIN:VEVENT
DTSTART;VALUE=DATE:20251221
DTEND;VALUE=DATE:20251222
DTSTAMP:20260419T090358
CREATED:20251201T185538Z
LAST-MODIFIED:20251201T185538Z
UID:30001369-1766275200-1766361599@blackrock.org
SUMMARY:Immanuel: God With Us Through Struggles
DESCRIPTION:Life doesn’t always go as planned—but God is still with us. All December long\, we’re exploring the Christmas story and what it means to have a God who shows up in our uncertainty\, our joy\, and even our struggles. Everyone is welcome—whether you’ve been attending church forever or showing up for the first time.
URL:https://blackrock.org/event/immanuel-god-with-us-through-struggles/
LOCATION:Black Rock Church\, 3685 Black Rock Tpke\, Fairfield\, CT\, 06825\, United States
CATEGORIES:Worship Service
ATTACH;FMTTYPE=image/jpeg:https://blackrock.org/wp-content/uploads/2025/12/Sundays-in-December-21.jpg
ORGANIZER;CN="Black Rock Church":MAILTO:info@blackrock.org
END:VEVENT
BEGIN:VEVENT
DTSTART;VALUE=DATE:20251214
DTEND;VALUE=DATE:20251215
DTSTAMP:20260419T090358
CREATED:20251201T193154Z
LAST-MODIFIED:20251201T193154Z
UID:30001370-1765670400-1765756799@blackrock.org
SUMMARY:Christmas Store
DESCRIPTION:Each year\, we have come together as a church to collect gifts for our local partner\, Urban Impact\, where parents are given the ability to buy Christmas gifts for their kids at a fraction of the retail cost. You all have shown up in such a big way the past few years that we are moving beyond working with just one Local Partner. This year\, we hope to provide gifts for Urban Impact\, eligible families in need in our church family\, the rest of our Local Partners\, and foster kids in our state! \nWe are ready to distribute gifts as widely as possible\, but we need your help!
URL:https://blackrock.org/event/christmas-store/
LOCATION:Black Rock Church\, 3685 Black Rock Tpke\, Fairfield\, CT\, 06825\, United States
CATEGORIES:Church Event
ATTACH;FMTTYPE=image/jpeg:https://blackrock.org/wp-content/uploads/2025/12/Christmas-Store-2025.jpg
ORGANIZER;CN="Black Rock Church":MAILTO:info@blackrock.org
END:VEVENT
BEGIN:VEVENT
DTSTART;VALUE=DATE:20251214
DTEND;VALUE=DATE:20251215
DTSTAMP:20260419T090358
CREATED:20251201T185421Z
LAST-MODIFIED:20251201T185421Z
UID:30001368-1765670400-1765756799@blackrock.org
SUMMARY:Immanuel: God With Us Brings Joy & Celebration!
DESCRIPTION:Life doesn’t always go as planned—but God is still with us. All December long\, we’re exploring the Christmas story and what it means to have a God who shows up in our uncertainty\, our joy\, and even our struggles. Everyone is welcome—whether you’ve been attending church forever or showing up for the first time.
URL:https://blackrock.org/event/immanuel-god-with-us-brings-joy-celebration/
LOCATION:Black Rock Church\, 3685 Black Rock Tpke\, Fairfield\, CT\, 06825\, United States
CATEGORIES:Worship Service
ATTACH;FMTTYPE=image/jpeg:https://blackrock.org/wp-content/uploads/2025/12/Sundays-in-December-14.jpg
ORGANIZER;CN="Black Rock Church":MAILTO:info@blackrock.org
END:VEVENT
BEGIN:VEVENT
DTSTART;TZID=America/New_York:20251213T091500
DTEND;TZID=America/New_York:20251213T120000
DTSTAMP:20260419T090358
CREATED:20251201T154723Z
LAST-MODIFIED:20251201T154723Z
UID:30001367-1765617300-1765627200@blackrock.org
SUMMARY:2nd Saturday Serving
DESCRIPTION:Every second Saturday of the month\, we will have a church-wide service project: We set up the project\, you show up at the church\, and we will serve our community together! Make sure to join our email list so you know about each upcoming project.
URL:https://blackrock.org/event/2nd-saturday-serving/
LOCATION:Black Rock Church\, 3685 Black Rock Tpke\, Fairfield\, CT\, 06825\, United States
CATEGORIES:Church Event
ATTACH;FMTTYPE=image/jpeg:https://blackrock.org/wp-content/uploads/2025/12/2nd-Saturday-Serving-Web-Event-Image.jpg
ORGANIZER;CN="Black Rock Church":MAILTO:info@blackrock.org
END:VEVENT
BEGIN:VEVENT
DTSTART;VALUE=DATE:20251207
DTEND;VALUE=DATE:20251208
DTSTAMP:20260419T090358
CREATED:20251125T162118Z
LAST-MODIFIED:20251201T185305Z
UID:30001351-1765065600-1765151999@blackrock.org
SUMMARY:Immanuel: God With Us Through Uncertainty
DESCRIPTION:Life doesn’t always go as planned—but God is still with us. All December long\, we’re exploring the Christmas story and what it means to have a God who shows up in our uncertainty\, our joy\, and even our struggles. Everyone is welcome—whether you’ve been attending church forever or showing up for the first time.
URL:https://blackrock.org/event/sundays-in-december-december-7/
LOCATION:Black Rock Church\, 3685 Black Rock Tpke\, Fairfield\, CT\, 06825\, United States
CATEGORIES:Worship Service
ATTACH;FMTTYPE=image/jpeg:https://blackrock.org/wp-content/uploads/2025/11/Sundays-in-December-7.jpg
ORGANIZER;CN="Black Rock Church":MAILTO:info@blackrock.org
END:VEVENT
BEGIN:VEVENT
DTSTART;TZID=America/New_York:20251206T100000
DTEND;TZID=America/New_York:20251206T120000
DTSTAMP:20260419T090358
CREATED:20251029T185627Z
LAST-MODIFIED:20251029T185808Z
UID:30001348-1765015200-1765022400@blackrock.org
SUMMARY:Gingerbread Bash
DESCRIPTION:Escape the holiday rush and create lasting memories with your family at our Annual Gingerbread Bash! Join us in Woodruff Hall\, BRC on Saturday\, December 6th\, from 10:00 AM to 12:00 PM. This is the perfect opportunity to unplug and focus on the true meaning of Christmas. Together\, you will build a Gingerbread Nativity\, enjoy festive games and songs\, and savor delicious treats. Be sure to wear your ugliest Christmas sweater! The cost is $25 per family\, which includes one Nativity kit. Register today to secure your spot.f
URL:https://blackrock.org/event/gingerbread-bash/
LOCATION:Black Rock Church\, 3685 Black Rock Tpke\, Fairfield\, CT\, 06825\, United States
CATEGORIES:Church Event
ATTACH;FMTTYPE=image/jpeg:https://blackrock.org/wp-content/uploads/2025/10/Gingerbread-Bash-Website-Event.jpg
ORGANIZER;CN="Black Rock Church":MAILTO:info@blackrock.org
END:VEVENT
BEGIN:VEVENT
DTSTART;TZID=America/New_York:20251126T190000
DTEND;TZID=America/New_York:20251126T200000
DTSTAMP:20260419T090358
CREATED:20251029T155433Z
LAST-MODIFIED:20251029T160550Z
UID:30001347-1764183600-1764187200@blackrock.org
SUMMARY:Thanksgiving Eve Service
DESCRIPTION:A Black Rock Church tradition\, our Thanksgiving Eve service is on Wednesday\, November 26\, at 7:00 PM. We will gather in the Worship Center for a one-hour celebration that includes an open-mic time for you to publicly share your expressions of thanks and praise to God for His faithfulness to you over the past year.
URL:https://blackrock.org/event/thanksgiving-eve-service/
LOCATION:Black Rock Church\, 3685 Black Rock Tpke\, Fairfield\, CT\, 06825\, United States
CATEGORIES:Church Event
ATTACH;FMTTYPE=image/jpeg:https://blackrock.org/wp-content/uploads/2025/10/TV-ThanksgivingEveService-scaled.jpg
ORGANIZER;CN="Black Rock Church":MAILTO:info@blackrock.org
END:VEVENT
BEGIN:VEVENT
DTSTART;TZID=America/New_York:20251108T140000
DTEND;TZID=America/New_York:20251108T160000
DTSTAMP:20260419T090358
CREATED:20251029T150116Z
LAST-MODIFIED:20251029T150116Z
UID:30001346-1762610400-1762617600@blackrock.org
SUMMARY:Harvest Family Fun
DESCRIPTION:Join us for Harvest Family Fun!  This is a fun afternoon to connect with others\, share fall appetizers and desserts\, and enjoy fun activities like the Family Photo Booth. You’ll also receive a FREE Parenting Toolkit with tips on planting God’s Word at home\, and your family will participate in our Missions stations to bring food and hope to children in Nigeria through the Seeds of Hope project. Don’t miss this perfect blend of fun\, faith\, and fellowship! Sign-up is required. 
URL:https://blackrock.org/event/harvest-family-fun/
LOCATION:Black Rock Church\, 3685 Black Rock Tpke\, Fairfield\, CT\, 06825\, United States
CATEGORIES:Church Event
ATTACH;FMTTYPE=image/jpeg:https://blackrock.org/wp-content/uploads/2025/10/Harvest-Family-Fun-wide.jpg
ORGANIZER;CN="Black Rock Church":MAILTO:info@blackrock.org
END:VEVENT
BEGIN:VEVENT
DTSTART;TZID=America/New_York:20251101T090000
DTEND;TZID=America/New_York:20251101T123000
DTSTAMP:20260419T090358
CREATED:20250909T184818Z
LAST-MODIFIED:20251028T153641Z
UID:30001344-1761987600-1762000200@blackrock.org
SUMMARY:Marriage Conference
DESCRIPTION:Are you looking to strengthen your relationship? Tune up your marriage? Navigate the joys and challenges of parenting? Connect with other couples and families? \nJoin us for a refreshing morning designed to encourage and equip you in your most important roles — as partners and parents. Whether you’re dating\, newlyweds\, young or seasoned parents\, in the prime of your marriage\, or celebrating a lifelong journey together\, this event is for you!
URL:https://blackrock.org/event/marriage-conference/
LOCATION:Black Rock Church\, 3685 Black Rock Tpke\, Fairfield\, CT\, 06825\, United States
CATEGORIES:Church Event
ATTACH;FMTTYPE=image/jpeg:https://blackrock.org/wp-content/uploads/2025/07/1920-x-1080-Marriage-Conference-WEBSITE.jpg
ORGANIZER;CN="Black Rock Church":MAILTO:info@blackrock.org
END:VEVENT
BEGIN:VEVENT
DTSTART;TZID=America/New_York:20251017T170000
DTEND;TZID=America/New_York:20251019T153000
DTSTAMP:20260419T090358
CREATED:20250909T163530Z
LAST-MODIFIED:20250922T154620Z
UID:30001343-1760720400-1760887800@blackrock.org
SUMMARY:Student Ministry Fall Retreat
DESCRIPTION:The Fall Retreat will be a time for students to grow spiritually and encounter God. Along the way\, we will have fun games\, passionate worship\, impactful messages\, and we will build lifelong relationships.
URL:https://blackrock.org/event/student-ministry-fall-retreat/
LOCATION:Camp Hume\, 73 Chestnut Hill Road\, Monterey\, MA\, 01245\, United States
ATTACH;FMTTYPE=image/png:https://blackrock.org/wp-content/uploads/2025/09/Student-Retreat.png
ORGANIZER;CN="Black Rock Church":MAILTO:info@blackrock.org
END:VEVENT
BEGIN:VEVENT
DTSTART;TZID=America/New_York:20251010T190000
DTEND;TZID=America/New_York:20251010T220000
DTSTAMP:20260419T090358
CREATED:20250909T162237Z
LAST-MODIFIED:20250922T154619Z
UID:30001342-1760122800-1760133600@blackrock.org
SUMMARY:Amy Grant Concert
DESCRIPTION:Imagine experiencing Amy Grant’s legendary music in a small\, intimate setting—up close and personal. This isn’t just a concert; it’s a one-of-a-kind night of faith\, music\, and impact. With special guest Sean Forrest\, this event supports Haiti180\, an incredible organization providing homes\, education\, and medical care to children in Haiti. Join Amy in helping Haiti180! This is a rare opportunity to experience Amy’s music in an intimate venue.
URL:https://blackrock.org/event/amy-grant-concert/
LOCATION:Black Rock Church\, 3685 Black Rock Tpke\, Fairfield\, CT\, 06825\, United States
CATEGORIES:Church Event
ATTACH;FMTTYPE=image/jpeg:https://blackrock.org/wp-content/uploads/2025/09/Amy-Grant-Concert.jpg
ORGANIZER;CN="Black Rock Church":MAILTO:info@blackrock.org
END:VEVENT
BEGIN:VEVENT
DTSTART;TZID=America/New_York:20250926T183000
DTEND;TZID=America/New_York:20250928T113000
DTSTAMP:20260419T090358
CREATED:20250909T155618Z
LAST-MODIFIED:20250922T154221Z
UID:30001341-1758911400-1759059000@blackrock.org
SUMMARY:Men's Weekend
DESCRIPTION:This year’s Men’s Weekend will be at beautiful Camp Spofford in southern New Hampshire. What a great opportunity to get away for a few days to experience God through community and great teaching from Bryan Wilkerson\, retired Senior Pastor at Chapel Grace in MA. You need this weekend\, and registration is now OPEN! \nOur Men’s Weekend includes activities for all:  Golf\, rock climbing\, canoes and kayaks\, volleyball\, corn hole\, and flag football. \nWe have multiple opportunities to hear from our speaker\, worship together\, and on Saturday afternoon\, there are breakout sessions led by some leaders from Black Rock.  You can stay onsite at camp for different pricing options $149 to $195\, or even at a local hotel if you are interested in that option.
URL:https://blackrock.org/event/mens-weekend/
LOCATION:Camp Spofford\, 24 NH-9A\, Spofford\, NH\, 03462\, United States
CATEGORIES:Church Event
ATTACH;FMTTYPE=image/png:https://blackrock.org/wp-content/uploads/2025/09/LOGO-MensWeekend.png
ORGANIZER;CN="Black Rock Church":MAILTO:info@blackrock.org
END:VEVENT
END:VCALENDAR