BEGIN:VCALENDAR
VERSION:2.0
PRODID:-//Black Rock Church - ECPv6.15.20//NONSGML v1.0//EN
CALSCALE:GREGORIAN
METHOD:PUBLISH
X-ORIGINAL-URL:https://blackrock.org
X-WR-CALDESC:Events for Black Rock Church
REFRESH-INTERVAL;VALUE=DURATION:PT1H
X-Robots-Tag:noindex
X-PUBLISHED-TTL:PT1H
BEGIN:VTIMEZONE
TZID:America/New_York
BEGIN:DAYLIGHT
TZOFFSETFROM:-0500
TZOFFSETTO:-0400
TZNAME:EDT
DTSTART:20250309T070000
END:DAYLIGHT
BEGIN:STANDARD
TZOFFSETFROM:-0400
TZOFFSETTO:-0500
TZNAME:EST
DTSTART:20251102T060000
END:STANDARD
BEGIN:DAYLIGHT
TZOFFSETFROM:-0500
TZOFFSETTO:-0400
TZNAME:EDT
DTSTART:20260308T070000
END:DAYLIGHT
BEGIN:STANDARD
TZOFFSETFROM:-0400
TZOFFSETTO:-0500
TZNAME:EST
DTSTART:20261101T060000
END:STANDARD
BEGIN:DAYLIGHT
TZOFFSETFROM:-0500
TZOFFSETTO:-0400
TZNAME:EDT
DTSTART:20270314T070000
END:DAYLIGHT
BEGIN:STANDARD
TZOFFSETFROM:-0400
TZOFFSETTO:-0500
TZNAME:EST
DTSTART:20271107T060000
END:STANDARD
END:VTIMEZONE
BEGIN:VEVENT
DTSTART;VALUE=DATE:20260404
DTEND;VALUE=DATE:20260405
DTSTAMP:20260421T054548
CREATED:20260311T194648Z
LAST-MODIFIED:20260311T194915Z
UID:30001417-1775260800-1775347199@blackrock.org
SUMMARY:Easter | Saturday Services
DESCRIPTION:Many of us sense that life is meant to be more than what we’re experiencing. Easter tells the story of a God who saw our broken world and chose to step into it through Jesus. When Jesus rose from the dead\, he opened the door to a new kind of life—one that begins now and continues forever. Join us this Easter as we explore what it means to live a resurrected life. Join us at either 4:00 or 6:00 PM.
URL:https://blackrock.org/event/eastersaturday/
LOCATION:Black Rock Church\, 3685 Black Rock Tpke\, Fairfield\, CT\, 06825\, United States
CATEGORIES:Worship Service
ATTACH;FMTTYPE=image/jpeg:https://blackrock.org/wp-content/uploads/2026/03/Easter.jpg
ORGANIZER;CN="Black Rock Church":MAILTO:info@blackrock.org
END:VEVENT
END:VCALENDAR